BEGIN:VCALENDAR
VERSION:2.0
PRODID:-//Florida Aviation Network - ECPv6.15.20//NONSGML v1.0//EN
CALSCALE:GREGORIAN
METHOD:PUBLISH
X-WR-CALNAME:Florida Aviation Network
X-ORIGINAL-URL:https://floridaaviationnetwork.com
X-WR-CALDESC:Events for Florida Aviation Network
REFRESH-INTERVAL;VALUE=DURATION:PT1H
X-Robots-Tag:noindex
X-PUBLISHED-TTL:PT1H
BEGIN:VTIMEZONE
TZID:America/Halifax
BEGIN:DAYLIGHT
TZOFFSETFROM:-0400
TZOFFSETTO:-0300
TZNAME:ADT
DTSTART:20230312T060000
END:DAYLIGHT
BEGIN:STANDARD
TZOFFSETFROM:-0300
TZOFFSETTO:-0400
TZNAME:AST
DTSTART:20231105T050000
END:STANDARD
BEGIN:DAYLIGHT
TZOFFSETFROM:-0400
TZOFFSETTO:-0300
TZNAME:ADT
DTSTART:20240310T060000
END:DAYLIGHT
BEGIN:STANDARD
TZOFFSETFROM:-0300
TZOFFSETTO:-0400
TZNAME:AST
DTSTART:20241103T050000
END:STANDARD
BEGIN:DAYLIGHT
TZOFFSETFROM:-0400
TZOFFSETTO:-0300
TZNAME:ADT
DTSTART:20250309T060000
END:DAYLIGHT
BEGIN:STANDARD
TZOFFSETFROM:-0300
TZOFFSETTO:-0400
TZNAME:AST
DTSTART:20251102T050000
END:STANDARD
BEGIN:DAYLIGHT
TZOFFSETFROM:-0400
TZOFFSETTO:-0300
TZNAME:ADT
DTSTART:20260308T060000
END:DAYLIGHT
BEGIN:STANDARD
TZOFFSETFROM:-0300
TZOFFSETTO:-0400
TZNAME:AST
DTSTART:20261101T050000
END:STANDARD
BEGIN:DAYLIGHT
TZOFFSETFROM:-0400
TZOFFSETTO:-0300
TZNAME:ADT
DTSTART:20270314T060000
END:DAYLIGHT
BEGIN:STANDARD
TZOFFSETFROM:-0300
TZOFFSETTO:-0400
TZNAME:AST
DTSTART:20271107T050000
END:STANDARD
END:VTIMEZONE
BEGIN:VTIMEZONE
TZID:Pacific/Easter
BEGIN:STANDARD
TZOFFSETFROM:-0500
TZOFFSETTO:-0600
TZNAME:-06
DTSTART:20240407T030000
END:STANDARD
BEGIN:DAYLIGHT
TZOFFSETFROM:-0600
TZOFFSETTO:-0500
TZNAME:-05
DTSTART:20240908T040000
END:DAYLIGHT
BEGIN:STANDARD
TZOFFSETFROM:-0500
TZOFFSETTO:-0600
TZNAME:-06
DTSTART:20250406T030000
END:STANDARD
BEGIN:DAYLIGHT
TZOFFSETFROM:-0600
TZOFFSETTO:-0500
TZNAME:-05
DTSTART:20250907T040000
END:DAYLIGHT
BEGIN:STANDARD
TZOFFSETFROM:-0500
TZOFFSETTO:-0600
TZNAME:-06
DTSTART:20260405T030000
END:STANDARD
BEGIN:DAYLIGHT
TZOFFSETFROM:-0600
TZOFFSETTO:-0500
TZNAME:-05
DTSTART:20260906T040000
END:DAYLIGHT
END:VTIMEZONE
BEGIN:VEVENT
DTSTART;VALUE=DATE:20241221
DTEND;VALUE=DATE:20241222
DTSTAMP:20260419T120936
CREATED:20230816T215329Z
LAST-MODIFIED:20240124T165234Z
UID:10000014-1734739200-1734825599@floridaaviationnetwork.com
SUMMARY:Plane Time
DESCRIPTION:
URL:https://floridaaviationnetwork.com/our-event/plane-time-9/
LOCATION:Gizmo Productions USA – Oviedo Mall – Orlando\, Florida
ATTACH;FMTTYPE=image/png:https://floridaaviationnetwork.com/wp-content/uploads/2023/08/490d41c6-0b7b-4bc6-a8d5-63eab248594d.png_1692054701.png
END:VEVENT
BEGIN:VEVENT
DTSTART;TZID=Pacific/Easter:20250111T083000
DTEND;TZID=Pacific/Easter:20250111T094500
DTSTAMP:20260419T120936
CREATED:20241113T135513Z
LAST-MODIFIED:20241113T140226Z
UID:10000031-1736584200-1736588700@floridaaviationnetwork.com
SUMMARY:Telecom Crew & Invited Guest
DESCRIPTION:Start at 8:30am-9:45am Eastern Time US-Canada
URL:https://floridaaviationnetwork.com/our-event/telecom-crew-invited-guest/
ATTACH;FMTTYPE=image/jpeg:https://floridaaviationnetwork.com/wp-content/uploads/2024/11/image001.jpg
END:VEVENT
BEGIN:VEVENT
DTSTART;VALUE=DATE:20250118
DTEND;VALUE=DATE:20250119
DTSTAMP:20260419T120936
CREATED:20241028T175113Z
LAST-MODIFIED:20241028T175113Z
UID:10000023-1737158400-1737244799@floridaaviationnetwork.com
SUMMARY:Plane Time 25
DESCRIPTION:
URL:https://floridaaviationnetwork.com/our-event/plane-time-25/
LOCATION:Gizmo Productions USA – Oviedo Mall – Orlando\, Florida
ATTACH;FMTTYPE=image/png:https://floridaaviationnetwork.com/wp-content/uploads/2023/08/490d41c6-0b7b-4bc6-a8d5-63eab248594d.png_1692054701.png
END:VEVENT
BEGIN:VEVENT
DTSTART;TZID=Pacific/Easter:20250215T083000
DTEND;TZID=Pacific/Easter:20250215T094500
DTSTAMP:20260419T120936
CREATED:20241113T164910Z
LAST-MODIFIED:20241113T164910Z
UID:10000032-1739608200-1739612700@floridaaviationnetwork.com
SUMMARY:Telecom Crew & Invited Guest
DESCRIPTION:Start at 8:30am-9:45am Eastern Time US-Canada
URL:https://floridaaviationnetwork.com/our-event/telecom-crew-invited-guest-2/
ATTACH;FMTTYPE=image/jpeg:https://floridaaviationnetwork.com/wp-content/uploads/2024/11/image001.jpg
END:VEVENT
BEGIN:VEVENT
DTSTART;TZID=Pacific/Easter:20250308T083000
DTEND;TZID=Pacific/Easter:20250308T094500
DTSTAMP:20260419T120936
CREATED:20241113T165117Z
LAST-MODIFIED:20250113T141630Z
UID:10000033-1741422600-1741427100@floridaaviationnetwork.com
SUMMARY:Telecom Crew & Invited Guest
DESCRIPTION:Start at 8:30am-9:45am Eastern Time US-Canada
URL:https://floridaaviationnetwork.com/our-event/telecom-crew-invited-guest-3/
ATTACH;FMTTYPE=image/jpeg:https://floridaaviationnetwork.com/wp-content/uploads/2024/11/image001.jpg
END:VEVENT
BEGIN:VEVENT
DTSTART;VALUE=DATE:20250315
DTEND;VALUE=DATE:20250316
DTSTAMP:20260419T120936
CREATED:20241028T175210Z
LAST-MODIFIED:20250113T141640Z
UID:10000024-1741996800-1742083199@floridaaviationnetwork.com
SUMMARY:Plane Time 26
DESCRIPTION:
URL:https://floridaaviationnetwork.com/our-event/plane-time-26/
LOCATION:Gizmo Productions USA – Oviedo Mall – Orlando\, Florida
ATTACH;FMTTYPE=image/png:https://floridaaviationnetwork.com/wp-content/uploads/2023/08/490d41c6-0b7b-4bc6-a8d5-63eab248594d.png_1692054701.png
END:VEVENT
BEGIN:VEVENT
DTSTART;VALUE=DATE:20250401
DTEND;VALUE=DATE:20250407
DTSTAMP:20260419T120936
CREATED:20241028T175526Z
LAST-MODIFIED:20241028T175526Z
UID:10000025-1743465600-1743983999@floridaaviationnetwork.com
SUMMARY:SUN ‘n FUN Aerospace Expo
DESCRIPTION:
URL:https://floridaaviationnetwork.com/our-event/sun-n-fun-aerospace-expo/
LOCATION:CFCA SNF ACE Campus\,Lakeland\,Florida ​
ATTACH;FMTTYPE=image/jpeg:https://floridaaviationnetwork.com/wp-content/uploads/2024/10/image002-1.jpg
END:VEVENT
BEGIN:VEVENT
DTSTART;TZID=Pacific/Easter:20250419T083000
DTEND;TZID=Pacific/Easter:20250419T094500
DTSTAMP:20260419T120936
CREATED:20241113T165238Z
LAST-MODIFIED:20241113T165238Z
UID:10000034-1745051400-1745055900@floridaaviationnetwork.com
SUMMARY:Telecom Crew & Invited Guest
DESCRIPTION:Start at 8:30am-9:45am Eastern Time US-Canada
URL:https://floridaaviationnetwork.com/our-event/telecom-crew-invited-guest-4/
ATTACH;FMTTYPE=image/jpeg:https://floridaaviationnetwork.com/wp-content/uploads/2024/11/image001.jpg
END:VEVENT
BEGIN:VEVENT
DTSTART;TZID=Pacific/Easter:20250517T083000
DTEND;TZID=Pacific/Easter:20250517T094500
DTSTAMP:20260419T120936
CREATED:20241113T165329Z
LAST-MODIFIED:20241113T170113Z
UID:10000036-1747470600-1747475100@floridaaviationnetwork.com
SUMMARY:Telecom Crew & Invited Guest
DESCRIPTION:Start at 8:30am-9:45am Eastern Time US-Canada
URL:https://floridaaviationnetwork.com/our-event/telecom-crew-invited-guest-5/
ATTACH;FMTTYPE=image/jpeg:https://floridaaviationnetwork.com/wp-content/uploads/2024/11/image001.jpg
END:VEVENT
BEGIN:VEVENT
DTSTART;TZID=Pacific/Easter:20250614T083000
DTEND;TZID=Pacific/Easter:20250614T094500
DTSTAMP:20260419T120936
CREATED:20241113T165337Z
LAST-MODIFIED:20241113T165417Z
UID:10000035-1749889800-1749894300@floridaaviationnetwork.com
SUMMARY:Telecom Crew & Invited Guest
DESCRIPTION:Start at 8:30am-9:45am Eastern Time US-Canada
URL:https://floridaaviationnetwork.com/our-event/telecom-crew-invited-guest-6/
ATTACH;FMTTYPE=image/jpeg:https://floridaaviationnetwork.com/wp-content/uploads/2024/11/image001.jpg
END:VEVENT
BEGIN:VEVENT
DTSTART;VALUE=DATE:20250621
DTEND;VALUE=DATE:20250622
DTSTAMP:20260419T120936
CREATED:20241028T180317Z
LAST-MODIFIED:20241028T180317Z
UID:10000026-1750464000-1750550399@floridaaviationnetwork.com
SUMMARY:Plane Time 27
DESCRIPTION:
URL:https://floridaaviationnetwork.com/our-event/plane-time-27/
LOCATION:Gizmo Productions USA – Oviedo Mall – Orlando\, Florida
ATTACH;FMTTYPE=image/png:https://floridaaviationnetwork.com/wp-content/uploads/2023/08/490d41c6-0b7b-4bc6-a8d5-63eab248594d.png_1692054701.png
END:VEVENT
BEGIN:VEVENT
DTSTART;TZID=Pacific/Easter:20250719T083000
DTEND;TZID=Pacific/Easter:20250719T094500
DTSTAMP:20260419T120936
CREATED:20241113T165542Z
LAST-MODIFIED:20241113T165542Z
UID:10000037-1752913800-1752918300@floridaaviationnetwork.com
SUMMARY:Telecom Crew & Invited Guest
DESCRIPTION:Start at 8:30am-9:45am Eastern Time US-Canada
URL:https://floridaaviationnetwork.com/our-event/telecom-crew-invited-guest-7/
ATTACH;FMTTYPE=image/jpeg:https://floridaaviationnetwork.com/wp-content/uploads/2024/11/image001.jpg
END:VEVENT
BEGIN:VEVENT
DTSTART;VALUE=DATE:20250721
DTEND;VALUE=DATE:20250728
DTSTAMP:20260419T120936
CREATED:20241028T180539Z
LAST-MODIFIED:20241028T180539Z
UID:10000027-1753056000-1753660799@floridaaviationnetwork.com
SUMMARY:Air Venture - Oshkosh
DESCRIPTION:Location: TBA in ticket \nDetails: TBA in ticket
URL:https://floridaaviationnetwork.com/our-event/air-venture-oshkosh/
ATTACH;FMTTYPE=image/jpeg:https://floridaaviationnetwork.com/wp-content/uploads/2024/10/image003.jpg
END:VEVENT
BEGIN:VEVENT
DTSTART;TZID=Pacific/Easter:20250809T083000
DTEND;TZID=Pacific/Easter:20250809T094500
DTSTAMP:20260419T120936
CREATED:20241113T165639Z
LAST-MODIFIED:20241113T165639Z
UID:10000038-1754728200-1754732700@floridaaviationnetwork.com
SUMMARY:Telecom Crew & Invited Guest
DESCRIPTION:Start at 8:30am-9:45am Eastern Time US-Canada
URL:https://floridaaviationnetwork.com/our-event/telecom-crew-invited-guest-8/
ATTACH;FMTTYPE=image/jpeg:https://floridaaviationnetwork.com/wp-content/uploads/2024/11/image001.jpg
END:VEVENT
BEGIN:VEVENT
DTSTART;VALUE=DATE:20250816
DTEND;VALUE=DATE:20250817
DTSTAMP:20260419T120936
CREATED:20241028T180648Z
LAST-MODIFIED:20241028T180648Z
UID:10000028-1755302400-1755388799@floridaaviationnetwork.com
SUMMARY:Plane Time 28
DESCRIPTION:Details: TBA in ticket
URL:https://floridaaviationnetwork.com/our-event/plane-time-28/
LOCATION:Gizmo Productions USA – Oviedo Mall – Orlando\, Florida
ATTACH;FMTTYPE=image/png:https://floridaaviationnetwork.com/wp-content/uploads/2023/08/490d41c6-0b7b-4bc6-a8d5-63eab248594d.png_1692054701.png
END:VEVENT
BEGIN:VEVENT
DTSTART;TZID=Pacific/Easter:20250913T083000
DTEND;TZID=Pacific/Easter:20250913T094500
DTSTAMP:20260419T120936
CREATED:20241113T165738Z
LAST-MODIFIED:20250804T170416Z
UID:10000040-1757752200-1757756700@floridaaviationnetwork.com
SUMMARY:Telecom Crew & Invited Guest
DESCRIPTION:Start at 8:30am-9:45am Eastern Time US-Canada
URL:https://floridaaviationnetwork.com/our-event/telecom-crew-invited-guest-9/
ATTACH;FMTTYPE=image/jpeg:https://floridaaviationnetwork.com/wp-content/uploads/2024/11/image001.jpg
END:VEVENT
BEGIN:VEVENT
DTSTART;TZID=Pacific/Easter:20251011T083000
DTEND;TZID=Pacific/Easter:20251011T094500
DTSTAMP:20260419T120936
CREATED:20241113T165751Z
LAST-MODIFIED:20241113T165751Z
UID:10000039-1760171400-1760175900@floridaaviationnetwork.com
SUMMARY:Telecom Crew & Invited Guest
DESCRIPTION:Start at 8:30am-9:45am Eastern Time US-Canada
URL:https://floridaaviationnetwork.com/our-event/telecom-crew-invited-guest-10/
ATTACH;FMTTYPE=image/jpeg:https://floridaaviationnetwork.com/wp-content/uploads/2024/11/image001.jpg
END:VEVENT
BEGIN:VEVENT
DTSTART;VALUE=DATE:20251018
DTEND;VALUE=DATE:20251019
DTSTAMP:20260419T120936
CREATED:20241028T180727Z
LAST-MODIFIED:20241028T201122Z
UID:10000029-1760745600-1760831999@floridaaviationnetwork.com
SUMMARY:Plane Time 29
DESCRIPTION:Details: TBA in ticket
URL:https://floridaaviationnetwork.com/our-event/plane-time-29/
LOCATION:Gizmo Productions USA – Oviedo Mall – Orlando\, Florida
ATTACH;FMTTYPE=image/png:https://floridaaviationnetwork.com/wp-content/uploads/2023/08/490d41c6-0b7b-4bc6-a8d5-63eab248594d.png_1692054701.png
END:VEVENT
BEGIN:VEVENT
DTSTART;TZID=Pacific/Easter:20251115T083000
DTEND;TZID=Pacific/Easter:20251115T094500
DTSTAMP:20260419T120936
CREATED:20241113T165905Z
LAST-MODIFIED:20241113T165905Z
UID:10000042-1763195400-1763199900@floridaaviationnetwork.com
SUMMARY:Telecom Crew & Invited Guest
DESCRIPTION:Start at 8:30am-9:45am Eastern Time US-Canada
URL:https://floridaaviationnetwork.com/our-event/telecom-crew-invited-guest-11/
ATTACH;FMTTYPE=image/jpeg:https://floridaaviationnetwork.com/wp-content/uploads/2024/11/image001.jpg
END:VEVENT
BEGIN:VEVENT
DTSTART;TZID=Pacific/Easter:20251213T083000
DTEND;TZID=Pacific/Easter:20251213T094500
DTSTAMP:20260419T120936
CREATED:20241113T165922Z
LAST-MODIFIED:20241113T165922Z
UID:10000041-1765614600-1765619100@floridaaviationnetwork.com
SUMMARY:Telecom Crew & Invited Guest
DESCRIPTION:Start at 8:30am-9:45am Eastern Time US-Canada
URL:https://floridaaviationnetwork.com/our-event/telecom-crew-invited-guest-12/
ATTACH;FMTTYPE=image/jpeg:https://floridaaviationnetwork.com/wp-content/uploads/2024/11/image001.jpg
END:VEVENT
BEGIN:VEVENT
DTSTART;VALUE=DATE:20251220
DTEND;VALUE=DATE:20251221
DTSTAMP:20260419T120936
CREATED:20241028T180808Z
LAST-MODIFIED:20241028T180808Z
UID:10000030-1766188800-1766275199@floridaaviationnetwork.com
SUMMARY:Plane Time 30
DESCRIPTION:Details: TBA in ticket
URL:https://floridaaviationnetwork.com/our-event/plane-time-30/
LOCATION:Gizmo Productions USA – Oviedo Mall – Orlando\, Florida
ATTACH;FMTTYPE=image/png:https://floridaaviationnetwork.com/wp-content/uploads/2023/08/490d41c6-0b7b-4bc6-a8d5-63eab248594d.png_1692054701.png
END:VEVENT
BEGIN:VEVENT
DTSTART;VALUE=DATE:20260110
DTEND;VALUE=DATE:20260111
DTSTAMP:20260419T120936
CREATED:20251024T053323Z
LAST-MODIFIED:20251024T053436Z
UID:10000043-1768003200-1768089599@floridaaviationnetwork.com
SUMMARY:Telecom Crew & Invited Guest
DESCRIPTION:
URL:https://floridaaviationnetwork.com/our-event/telecom-crew-invited-guest-13/
ATTACH;FMTTYPE=image/webp:https://floridaaviationnetwork.com/wp-content/uploads/2025/10/image001.webp
END:VEVENT
BEGIN:VEVENT
DTSTART;VALUE=DATE:20260117
DTEND;VALUE=DATE:20260118
DTSTAMP:20260419T120936
CREATED:20251024T053620Z
LAST-MODIFIED:20251024T053620Z
UID:10000044-1768608000-1768694399@floridaaviationnetwork.com
SUMMARY:Plane Time 31
DESCRIPTION:
URL:https://floridaaviationnetwork.com/our-event/plane-time-31/
LOCATION:Gizmo Productions USA – Oviedo Mall – Orlando\, Florida
ATTACH;FMTTYPE=image/webp:https://floridaaviationnetwork.com/wp-content/uploads/2025/10/image001-1.webp
END:VEVENT
BEGIN:VEVENT
DTSTART;VALUE=DATE:20260214
DTEND;VALUE=DATE:20260215
DTSTAMP:20260419T120936
CREATED:20251024T053751Z
LAST-MODIFIED:20251024T083522Z
UID:10000045-1771027200-1771113599@floridaaviationnetwork.com
SUMMARY:Telecom Crew & Invited Guest
DESCRIPTION:
URL:https://floridaaviationnetwork.com/our-event/telecom-crew-invited-guest-14/
ATTACH;FMTTYPE=image/webp:https://floridaaviationnetwork.com/wp-content/uploads/2025/10/image001-1-1.webp
END:VEVENT
BEGIN:VEVENT
DTSTART;VALUE=DATE:20260313
DTEND;VALUE=DATE:20260321
DTSTAMP:20260419T120936
CREATED:20251024T054331Z
LAST-MODIFIED:20260223T185219Z
UID:10000048-1773360000-1774051199@floridaaviationnetwork.com
SUMMARY:SSA Seniors Championship
DESCRIPTION:
URL:https://floridaaviationnetwork.com/our-event/ssa-seniors-championship-2/
LOCATION:Clearmont\, Florida
ATTACH;FMTTYPE=image/gif:https://floridaaviationnetwork.com/wp-content/uploads/2025/10/SSA-Logo.gif
END:VEVENT
BEGIN:VEVENT
DTSTART;VALUE=DATE:20260314
DTEND;VALUE=DATE:20260315
DTSTAMP:20260419T120936
CREATED:20251024T053930Z
LAST-MODIFIED:20251024T053930Z
UID:10000046-1773446400-1773532799@floridaaviationnetwork.com
SUMMARY:Plane Time 32
DESCRIPTION:
URL:https://floridaaviationnetwork.com/our-event/plane-time-32/
LOCATION:Gizmo Productions USA – Oviedo Mall – Orlando\, Florida
ATTACH;FMTTYPE=image/webp:https://floridaaviationnetwork.com/wp-content/uploads/2025/10/image001-1.webp
END:VEVENT
BEGIN:VEVENT
DTSTART;VALUE=DATE:20260321
DTEND;VALUE=DATE:20260322
DTSTAMP:20260419T120936
CREATED:20251024T054106Z
LAST-MODIFIED:20251024T054106Z
UID:10000047-1774051200-1774137599@floridaaviationnetwork.com
SUMMARY:Telecom Crew & Invited Guest
DESCRIPTION:
URL:https://floridaaviationnetwork.com/our-event/telecom-crew-invited-guest-15/
ATTACH;FMTTYPE=image/webp:https://floridaaviationnetwork.com/wp-content/uploads/2025/10/image001.webp
END:VEVENT
BEGIN:VEVENT
DTSTART;VALUE=DATE:20260414
DTEND;VALUE=DATE:20260420
DTSTAMP:20260419T120936
CREATED:20251024T054545Z
LAST-MODIFIED:20251024T054545Z
UID:10000049-1776124800-1776643199@floridaaviationnetwork.com
SUMMARY:SUN ‘n FUN
DESCRIPTION:
URL:https://floridaaviationnetwork.com/our-event/sun-n-fun-2/
LOCATION:Lakeland\, Florida
ATTACH;FMTTYPE=image/webp:https://floridaaviationnetwork.com/wp-content/uploads/2025/10/snf-logo-1536x541-1.webp
END:VEVENT
BEGIN:VEVENT
DTSTART;VALUE=DATE:20260516
DTEND;VALUE=DATE:20260517
DTSTAMP:20260419T120936
CREATED:20251024T054707Z
LAST-MODIFIED:20251024T054724Z
UID:10000050-1778889600-1778975999@floridaaviationnetwork.com
SUMMARY:Telecom Crew & Invited Guest
DESCRIPTION:
URL:https://floridaaviationnetwork.com/our-event/telecom-crew-invited-guest-16/
ATTACH;FMTTYPE=image/webp:https://floridaaviationnetwork.com/wp-content/uploads/2025/10/image001-2-1.webp
END:VEVENT
BEGIN:VEVENT
DTSTART;VALUE=DATE:20260613
DTEND;VALUE=DATE:20260614
DTSTAMP:20260419T120936
CREATED:20251024T054941Z
LAST-MODIFIED:20251024T055010Z
UID:10000051-1781308800-1781395199@floridaaviationnetwork.com
SUMMARY:Telecom Crew & Invited Guest
DESCRIPTION:
URL:https://floridaaviationnetwork.com/our-event/telecom-crew-invited-guest-17/
ATTACH;FMTTYPE=image/webp:https://floridaaviationnetwork.com/wp-content/uploads/2025/10/image001-3.webp
END:VEVENT
END:VCALENDAR