BEGIN:VCALENDAR
VERSION:2.0
PRODID:-//Florida Aviation Network - ECPv6.15.20//NONSGML v1.0//EN
CALSCALE:GREGORIAN
METHOD:PUBLISH
X-WR-CALNAME:Florida Aviation Network
X-ORIGINAL-URL:https://floridaaviationnetwork.com
X-WR-CALDESC:Events for Florida Aviation Network
REFRESH-INTERVAL;VALUE=DURATION:PT1H
X-Robots-Tag:noindex
X-PUBLISHED-TTL:PT1H
BEGIN:VTIMEZONE
TZID:America/Halifax
BEGIN:DAYLIGHT
TZOFFSETFROM:-0400
TZOFFSETTO:-0300
TZNAME:ADT
DTSTART:20220313T060000
END:DAYLIGHT
BEGIN:STANDARD
TZOFFSETFROM:-0300
TZOFFSETTO:-0400
TZNAME:AST
DTSTART:20221106T050000
END:STANDARD
BEGIN:DAYLIGHT
TZOFFSETFROM:-0400
TZOFFSETTO:-0300
TZNAME:ADT
DTSTART:20230312T060000
END:DAYLIGHT
BEGIN:STANDARD
TZOFFSETFROM:-0300
TZOFFSETTO:-0400
TZNAME:AST
DTSTART:20231105T050000
END:STANDARD
BEGIN:DAYLIGHT
TZOFFSETFROM:-0400
TZOFFSETTO:-0300
TZNAME:ADT
DTSTART:20240310T060000
END:DAYLIGHT
BEGIN:STANDARD
TZOFFSETFROM:-0300
TZOFFSETTO:-0400
TZNAME:AST
DTSTART:20241103T050000
END:STANDARD
END:VTIMEZONE
BEGIN:VTIMEZONE
TZID:UTC
BEGIN:STANDARD
TZOFFSETFROM:+0000
TZOFFSETTO:+0000
TZNAME:UTC
DTSTART:20220101T000000
END:STANDARD
END:VTIMEZONE
BEGIN:VEVENT
DTSTART;VALUE=DATE:20230819
DTEND;VALUE=DATE:20230820
DTSTAMP:20260419T201959
CREATED:20230816T215103Z
LAST-MODIFIED:20230816T215236Z
UID:10000009-1692403200-1692489599@floridaaviationnetwork.com
SUMMARY:Plane Time
DESCRIPTION:
URL:https://floridaaviationnetwork.com/our-event/plane-time-4/
LOCATION:Orlando Florida
ATTACH;FMTTYPE=image/png:https://floridaaviationnetwork.com/wp-content/uploads/2023/08/490d41c6-0b7b-4bc6-a8d5-63eab248594d.png_1692054701.png
END:VEVENT
BEGIN:VEVENT
DTSTART;VALUE=DATE:20230818
DTEND;VALUE=DATE:20230820
DTSTAMP:20260419T201959
CREATED:20230721T091728Z
LAST-MODIFIED:20230721T101815Z
UID:10000006-1692316800-1692489599@floridaaviationnetwork.com
SUMMARY:CAP National Conference
DESCRIPTION:Aug 18-19\, 2023 Bellevue\, Washington
URL:https://floridaaviationnetwork.com/our-event/cap-national-conference-aug-18-19-2023-bellevue-washington/
ATTACH;FMTTYPE=image/png:https://floridaaviationnetwork.com/wp-content/uploads/2023/07/5-CAP-2017-logo-horizontal-optimized.png_1689519344.png
END:VEVENT
BEGIN:VEVENT
DTSTART;VALUE=DATE:20230724
DTEND;VALUE=DATE:20230731
DTSTAMP:20260419T201959
CREATED:20230515T092444Z
LAST-MODIFIED:20230721T085434Z
UID:10000003-1690156800-1690761599@floridaaviationnetwork.com
SUMMARY:Air Venture
DESCRIPTION:Whitman\, Field\nOshkosh\, Wisconsin
URL:https://floridaaviationnetwork.com/our-event/air-venture/
ATTACH;FMTTYPE=image/png:https://floridaaviationnetwork.com/wp-content/uploads/2023/05/oshkosh-2023-b.png_1689518773.png
END:VEVENT
BEGIN:VEVENT
DTSTART;VALUE=DATE:20230624
DTEND;VALUE=DATE:20230625
DTSTAMP:20260419T201959
CREATED:20230816T215047Z
LAST-MODIFIED:20230816T215222Z
UID:10000008-1687564800-1687651199@floridaaviationnetwork.com
SUMMARY:Plane Time
DESCRIPTION:
URL:https://floridaaviationnetwork.com/our-event/plane-time-3/
LOCATION:Orlando Florida
ATTACH;FMTTYPE=image/png:https://floridaaviationnetwork.com/wp-content/uploads/2023/08/490d41c6-0b7b-4bc6-a8d5-63eab248594d.png_1692054701.png
END:VEVENT
BEGIN:VEVENT
DTSTART;VALUE=DATE:20230121
DTEND;VALUE=DATE:20230122
DTSTAMP:20260419T201959
CREATED:20230816T214901Z
LAST-MODIFIED:20230816T214917Z
UID:10000007-1674259200-1674345599@floridaaviationnetwork.com
SUMMARY:Plane Time
DESCRIPTION:
URL:https://floridaaviationnetwork.com/our-event/plane-time-2/
LOCATION:Orlando Florida
ATTACH;FMTTYPE=image/png:https://floridaaviationnetwork.com/wp-content/uploads/2023/08/490d41c6-0b7b-4bc6-a8d5-63eab248594d.png_1692054701.png
END:VEVENT
END:VCALENDAR