BEGIN:VCALENDAR
VERSION:2.0
PRODID:-//Florida Aviation Network - ECPv6.15.20//NONSGML v1.0//EN
CALSCALE:GREGORIAN
METHOD:PUBLISH
X-ORIGINAL-URL:https://floridaaviationnetwork.com
X-WR-CALDESC:Events for Florida Aviation Network
REFRESH-INTERVAL;VALUE=DURATION:PT1H
X-Robots-Tag:noindex
X-PUBLISHED-TTL:PT1H
BEGIN:VTIMEZONE
TZID:America/Halifax
BEGIN:DAYLIGHT
TZOFFSETFROM:-0400
TZOFFSETTO:-0300
TZNAME:ADT
DTSTART:20250309T060000
END:DAYLIGHT
BEGIN:STANDARD
TZOFFSETFROM:-0300
TZOFFSETTO:-0400
TZNAME:AST
DTSTART:20251102T050000
END:STANDARD
BEGIN:DAYLIGHT
TZOFFSETFROM:-0400
TZOFFSETTO:-0300
TZNAME:ADT
DTSTART:20260308T060000
END:DAYLIGHT
BEGIN:STANDARD
TZOFFSETFROM:-0300
TZOFFSETTO:-0400
TZNAME:AST
DTSTART:20261101T050000
END:STANDARD
BEGIN:DAYLIGHT
TZOFFSETFROM:-0400
TZOFFSETTO:-0300
TZNAME:ADT
DTSTART:20270314T060000
END:DAYLIGHT
BEGIN:STANDARD
TZOFFSETFROM:-0300
TZOFFSETTO:-0400
TZNAME:AST
DTSTART:20271107T050000
END:STANDARD
END:VTIMEZONE
BEGIN:VEVENT
DTSTART;VALUE=DATE:20260313
DTEND;VALUE=DATE:20260321
DTSTAMP:20260420T041327
CREATED:20251024T054331Z
LAST-MODIFIED:20260223T185219Z
UID:10000048-1773360000-1774051199@floridaaviationnetwork.com
SUMMARY:SSA Seniors Championship
DESCRIPTION:
URL:https://floridaaviationnetwork.com/our-event/ssa-seniors-championship-2/
LOCATION:Clearmont\, Florida
ATTACH;FMTTYPE=image/gif:https://floridaaviationnetwork.com/wp-content/uploads/2025/10/SSA-Logo.gif
END:VEVENT
BEGIN:VEVENT
DTSTART;VALUE=DATE:20260314
DTEND;VALUE=DATE:20260315
DTSTAMP:20260420T041327
CREATED:20251024T053930Z
LAST-MODIFIED:20251024T053930Z
UID:10000046-1773446400-1773532799@floridaaviationnetwork.com
SUMMARY:Plane Time 32
DESCRIPTION:
URL:https://floridaaviationnetwork.com/our-event/plane-time-32/
LOCATION:Gizmo Productions USA – Oviedo Mall – Orlando\, Florida
ATTACH;FMTTYPE=image/webp:https://floridaaviationnetwork.com/wp-content/uploads/2025/10/image001-1.webp
END:VEVENT
BEGIN:VEVENT
DTSTART;VALUE=DATE:20260321
DTEND;VALUE=DATE:20260322
DTSTAMP:20260420T041327
CREATED:20251024T054106Z
LAST-MODIFIED:20251024T054106Z
UID:10000047-1774051200-1774137599@floridaaviationnetwork.com
SUMMARY:Telecom Crew & Invited Guest
DESCRIPTION:
URL:https://floridaaviationnetwork.com/our-event/telecom-crew-invited-guest-15/
ATTACH;FMTTYPE=image/webp:https://floridaaviationnetwork.com/wp-content/uploads/2025/10/image001.webp
END:VEVENT
BEGIN:VEVENT
DTSTART;VALUE=DATE:20260414
DTEND;VALUE=DATE:20260420
DTSTAMP:20260420T041327
CREATED:20251024T054545Z
LAST-MODIFIED:20251024T054545Z
UID:10000049-1776124800-1776643199@floridaaviationnetwork.com
SUMMARY:SUN ‘n FUN
DESCRIPTION:
URL:https://floridaaviationnetwork.com/our-event/sun-n-fun-2/
LOCATION:Lakeland\, Florida
ATTACH;FMTTYPE=image/webp:https://floridaaviationnetwork.com/wp-content/uploads/2025/10/snf-logo-1536x541-1.webp
END:VEVENT
BEGIN:VEVENT
DTSTART;VALUE=DATE:20260516
DTEND;VALUE=DATE:20260517
DTSTAMP:20260420T041327
CREATED:20251024T054707Z
LAST-MODIFIED:20251024T054724Z
UID:10000050-1778889600-1778975999@floridaaviationnetwork.com
SUMMARY:Telecom Crew & Invited Guest
DESCRIPTION:
URL:https://floridaaviationnetwork.com/our-event/telecom-crew-invited-guest-16/
ATTACH;FMTTYPE=image/webp:https://floridaaviationnetwork.com/wp-content/uploads/2025/10/image001-2-1.webp
END:VEVENT
BEGIN:VEVENT
DTSTART;VALUE=DATE:20260613
DTEND;VALUE=DATE:20260614
DTSTAMP:20260420T041327
CREATED:20251024T054941Z
LAST-MODIFIED:20251024T055010Z
UID:10000051-1781308800-1781395199@floridaaviationnetwork.com
SUMMARY:Telecom Crew & Invited Guest
DESCRIPTION:
URL:https://floridaaviationnetwork.com/our-event/telecom-crew-invited-guest-17/
ATTACH;FMTTYPE=image/webp:https://floridaaviationnetwork.com/wp-content/uploads/2025/10/image001-3.webp
END:VEVENT
BEGIN:VEVENT
DTSTART;VALUE=DATE:20260620
DTEND;VALUE=DATE:20260621
DTSTAMP:20260420T041327
CREATED:20251024T055119Z
LAST-MODIFIED:20251024T055119Z
UID:10000052-1781913600-1781999999@floridaaviationnetwork.com
SUMMARY:Plane Time 33
DESCRIPTION:
URL:https://floridaaviationnetwork.com/our-event/plane-time-33/
LOCATION:Gizmo Productions USA – Oviedo Mall – Orlando\, Florida
ATTACH;FMTTYPE=image/webp:https://floridaaviationnetwork.com/wp-content/uploads/2025/10/image001-1.webp
END:VEVENT
BEGIN:VEVENT
DTSTART;VALUE=DATE:20260718
DTEND;VALUE=DATE:20260719
DTSTAMP:20260420T041327
CREATED:20251024T055338Z
LAST-MODIFIED:20251024T055338Z
UID:10000053-1784332800-1784419199@floridaaviationnetwork.com
SUMMARY:Telecom Crew & Invited Guest
DESCRIPTION:
URL:https://floridaaviationnetwork.com/our-event/telecom-crew-invited-guest-18/
ATTACH;FMTTYPE=image/webp:https://floridaaviationnetwork.com/wp-content/uploads/2025/10/image001-3-1.webp
END:VEVENT
BEGIN:VEVENT
DTSTART;VALUE=DATE:20260720
DTEND;VALUE=DATE:20260727
DTSTAMP:20260420T041327
CREATED:20251024T055602Z
LAST-MODIFIED:20251024T055602Z
UID:10000054-1784505600-1785110399@floridaaviationnetwork.com
SUMMARY:EAA Air Venture
DESCRIPTION:
URL:https://floridaaviationnetwork.com/our-event/eaa-air-venture-2/
LOCATION:Oshkosh\, Wisconsin
ATTACH;FMTTYPE=image/gif:https://floridaaviationnetwork.com/wp-content/uploads/2025/10/eaa-logo_rightcolumn-1.gif
END:VEVENT
BEGIN:VEVENT
DTSTART;VALUE=DATE:20260808
DTEND;VALUE=DATE:20260809
DTSTAMP:20260420T041327
CREATED:20251024T055800Z
LAST-MODIFIED:20251024T055810Z
UID:10000055-1786147200-1786233599@floridaaviationnetwork.com
SUMMARY:Telecom Crew & Invited Guest
DESCRIPTION:
URL:https://floridaaviationnetwork.com/our-event/telecom-crew-invited-guest-19/
ATTACH;FMTTYPE=image/webp:https://floridaaviationnetwork.com/wp-content/uploads/2025/10/image001-4.webp
END:VEVENT
BEGIN:VEVENT
DTSTART;VALUE=DATE:20260815
DTEND;VALUE=DATE:20260816
DTSTAMP:20260420T041327
CREATED:20251024T060553Z
LAST-MODIFIED:20251024T060553Z
UID:10000056-1786752000-1786838399@floridaaviationnetwork.com
SUMMARY:Plane Time 34
DESCRIPTION:
URL:https://floridaaviationnetwork.com/our-event/plane-time-34/
LOCATION:Gizmo Productions USA – Oviedo Mall – Orlando\, Florida
ATTACH;FMTTYPE=image/webp:https://floridaaviationnetwork.com/wp-content/uploads/2025/10/image001-1.webp
END:VEVENT
BEGIN:VEVENT
DTSTART;VALUE=DATE:20260912
DTEND;VALUE=DATE:20260913
DTSTAMP:20260420T041327
CREATED:20251024T060754Z
LAST-MODIFIED:20251024T060754Z
UID:10000057-1789171200-1789257599@floridaaviationnetwork.com
SUMMARY:Telecom Crew & Invited Guest
DESCRIPTION:
URL:https://floridaaviationnetwork.com/our-event/telecom-crew-invited-guest-20/
ATTACH;FMTTYPE=image/webp:https://floridaaviationnetwork.com/wp-content/uploads/2025/10/image001-5.webp
END:VEVENT
BEGIN:VEVENT
DTSTART;VALUE=DATE:20261003
DTEND;VALUE=DATE:20261012
DTSTAMP:20260420T041327
CREATED:20251024T063441Z
LAST-MODIFIED:20251024T063441Z
UID:10000059-1790985600-1791763199@floridaaviationnetwork.com
SUMMARY:International Balloon Fiesta
DESCRIPTION:
URL:https://floridaaviationnetwork.com/our-event/international-balloon-fiesta-2/
LOCATION:Albuquerque\, New Mexico
ATTACH;FMTTYPE=image/webp:https://floridaaviationnetwork.com/wp-content/uploads/2025/10/thumbnail_7-logo_2022.webp
END:VEVENT
BEGIN:VEVENT
DTSTART;VALUE=DATE:20261010
DTEND;VALUE=DATE:20261011
DTSTAMP:20260420T041327
CREATED:20251024T062511Z
LAST-MODIFIED:20251024T062511Z
UID:10000058-1791590400-1791676799@floridaaviationnetwork.com
SUMMARY:Telecom Crew & Invited Guest
DESCRIPTION:
URL:https://floridaaviationnetwork.com/our-event/telecom-crew-invited-guest-21/
ATTACH;FMTTYPE=image/webp:https://floridaaviationnetwork.com/wp-content/uploads/2025/10/image001-5.webp
END:VEVENT
BEGIN:VEVENT
DTSTART;VALUE=DATE:20261017
DTEND;VALUE=DATE:20261018
DTSTAMP:20260420T041327
CREATED:20251024T063622Z
LAST-MODIFIED:20251024T063622Z
UID:10000060-1792195200-1792281599@floridaaviationnetwork.com
SUMMARY:Plane Time 35
DESCRIPTION:
URL:https://floridaaviationnetwork.com/our-event/plane-time-35/
LOCATION:Gizmo Productions USA – Oviedo Mall – Orlando\, Florida
ATTACH;FMTTYPE=image/webp:https://floridaaviationnetwork.com/wp-content/uploads/2025/10/image001-1-1-1.webp
END:VEVENT
BEGIN:VEVENT
DTSTART;VALUE=DATE:20261121
DTEND;VALUE=DATE:20261122
DTSTAMP:20260420T041327
CREATED:20251024T063714Z
LAST-MODIFIED:20251024T063714Z
UID:10000061-1795219200-1795305599@floridaaviationnetwork.com
SUMMARY:Telecom Crew & Invited Guest
DESCRIPTION:
URL:https://floridaaviationnetwork.com/our-event/telecom-crew-invited-guest-22/
ATTACH;FMTTYPE=image/webp:https://floridaaviationnetwork.com/wp-content/uploads/2025/10/image001-5.webp
END:VEVENT
BEGIN:VEVENT
DTSTART;VALUE=DATE:20261212
DTEND;VALUE=DATE:20261213
DTSTAMP:20260420T041327
CREATED:20251024T063836Z
LAST-MODIFIED:20251024T063836Z
UID:10000062-1797033600-1797119999@floridaaviationnetwork.com
SUMMARY:Telecom Crew & Invited Guest
DESCRIPTION:
URL:https://floridaaviationnetwork.com/our-event/telecom-crew-invited-guest-23/
ATTACH;FMTTYPE=image/webp:https://floridaaviationnetwork.com/wp-content/uploads/2025/10/image001-5.webp
END:VEVENT
BEGIN:VEVENT
DTSTART;VALUE=DATE:20261219
DTEND;VALUE=DATE:20261220
DTSTAMP:20260420T041327
CREATED:20251024T064030Z
LAST-MODIFIED:20251024T064030Z
UID:10000063-1797638400-1797724799@floridaaviationnetwork.com
SUMMARY:Plane Time 36
DESCRIPTION:
URL:https://floridaaviationnetwork.com/our-event/plane-time-36/
LOCATION:Gizmo Productions USA – Oviedo Mall – Orlando\, Florida
ATTACH;FMTTYPE=image/webp:https://floridaaviationnetwork.com/wp-content/uploads/2025/10/image001-1-1-1.webp
END:VEVENT
END:VCALENDAR